BEGIN:VCALENDAR
VERSION:2.0
PRODID:-//LiteraturKollektiv Bochum e.V. - ECPv6.15.20//NONSGML v1.0//EN
CALSCALE:GREGORIAN
METHOD:PUBLISH
X-ORIGINAL-URL:https://litkobo.de
X-WR-CALDESC:Veranstaltungen für LiteraturKollektiv Bochum e.V.
REFRESH-INTERVAL;VALUE=DURATION:PT1H
X-Robots-Tag:noindex
X-PUBLISHED-TTL:PT1H
BEGIN:VTIMEZONE
TZID:Europe/Berlin
BEGIN:DAYLIGHT
TZOFFSETFROM:+0100
TZOFFSETTO:+0200
TZNAME:CEST
DTSTART:20250330T010000
END:DAYLIGHT
BEGIN:STANDARD
TZOFFSETFROM:+0200
TZOFFSETTO:+0100
TZNAME:CET
DTSTART:20251026T010000
END:STANDARD
BEGIN:DAYLIGHT
TZOFFSETFROM:+0100
TZOFFSETTO:+0200
TZNAME:CEST
DTSTART:20260329T010000
END:DAYLIGHT
BEGIN:STANDARD
TZOFFSETFROM:+0200
TZOFFSETTO:+0100
TZNAME:CET
DTSTART:20261025T010000
END:STANDARD
BEGIN:DAYLIGHT
TZOFFSETFROM:+0100
TZOFFSETTO:+0200
TZNAME:CEST
DTSTART:20270328T010000
END:DAYLIGHT
BEGIN:STANDARD
TZOFFSETFROM:+0200
TZOFFSETTO:+0100
TZNAME:CET
DTSTART:20271031T010000
END:STANDARD
END:VTIMEZONE
BEGIN:VEVENT
DTSTART;TZID=Europe/Berlin:20260504T180000
DTEND;TZID=Europe/Berlin:20260504T190000
DTSTAMP:20260423T155021
CREATED:20260126T131329Z
LAST-MODIFIED:20260126T131329Z
UID:1722-1777917600-1777921200@litkobo.de
SUMMARY:Literarische Sprechstunde
DESCRIPTION:Du hast Fragen zu Literatur oder Sachbuch? Egal ob du schreibst oder liest\, hier ist deine Anlaufstelle! Und zwar jeden ersten Montag eines Monats. \nDu möchtest dich mit anderen über Bücher austauschen\, die Du liest\, vielleicht einen eigenen Lesekreis gründen? Da können wir Interessierte miteinander in Kontakt bringen. Oder du schreibst – ganz frisch oder schon länger – und suchst Kontakt zu anderen Autor:innen? Auch da können wir helfen. Für alle\, die in Bochum oder in der näheren Umgebung leben oder arbeiten\, bieten wir eine erste Anlaufstelle mit Informationen und persönlicher Beratung. \nAnsprechpartnerin: Almuth Heuner \nEintritt frei; Spende erwünscht
URL:https://litkobo.de/event/literarische-sprechstunde-21
LOCATION:atelier 4630\, Gerberstr. 15\, Bochum\, 44787\, Deutschland
CATEGORIES:Gespräch,Sonstiges
ORGANIZER;CN="LitKoBo e.V.":MAILTO:info@litkobo.de
END:VEVENT
BEGIN:VEVENT
DTSTART;TZID=Europe/Berlin:20260506T180000
DTEND;TZID=Europe/Berlin:20260506T210000
DTSTAMP:20260423T155021
CREATED:20260126T132051Z
LAST-MODIFIED:20260126T132051Z
UID:1724-1778090400-1778101200@litkobo.de
SUMMARY:Screenwriting-Workshop (W2-3)
DESCRIPTION:Nur für diejenigen\, die bereits für diesen vierteiligen Workshop angemeldet sind. \nWir bieten den gesamten Workshop aber auch noch mal in kompakter Form am 9. und 16. Mai an. Bitte unter diesen Terminen anmelden!
URL:https://litkobo.de/event/screenwriting-workshop-w2-3
LOCATION:atelier 4630\, Gerberstr. 15\, Bochum\, 44787\, Deutschland
CATEGORIES:Workshop
END:VEVENT
BEGIN:VEVENT
DTSTART;TZID=Europe/Berlin:20260507T190000
DTEND;TZID=Europe/Berlin:20260507T210000
DTSTAMP:20260423T155021
CREATED:20260126T132846Z
LAST-MODIFIED:20260126T132846Z
UID:1726-1778180400-1778187600@litkobo.de
SUMMARY:BOoksnacks
DESCRIPTION:Was habt ihr gelesen? Erzählt davon! \nAn jedem ersten Donnerstag im Monat sprechen wir in gemütlicher Runde über Bücher\, die wir gelesen haben oder noch lesen wollen\, über Bücher\, die uns gefallen haben oder die wir grässlich fanden. Und wir stellen uns unsere Lieblingsbücher vor\, alte und neue. Alle Menschen ab 16 und alle Arten von Büchern sind willkommen! \nModeration: wechselnd (Almuth Heuner\, Corina Minzlaff\, Christiane Mathei\, Angelina Jungmann und andere) \nAnmeldeschluss: 3. Mai 2026 \n5 €
URL:https://litkobo.de/event/booksnacks-24
LOCATION:atelier 4630\, Gerberstr. 15\, Bochum\, 44787\, Deutschland
CATEGORIES:Gespräch,Leserunde
ORGANIZER;CN="LitKoBo e.V.":MAILTO:info@litkobo.de
END:VEVENT
BEGIN:VEVENT
DTSTART;TZID=Europe/Berlin:20260509T090000
DTEND;TZID=Europe/Berlin:20260509T150000
DTSTAMP:20260423T155021
CREATED:20260128T145346Z
LAST-MODIFIED:20260128T145346Z
UID:1729-1778317200-1778338800@litkobo.de
SUMMARY:Screenwriting-Workshop kompakt (K3-1)
DESCRIPTION:Achtung! Dieser Workshop umfasst zwei Termine: 9. Mai und 16. Mai! \nDu interessierst dich für Film und möchtest dein eigenes Drehbuch schreiben? Dann beginnt deine erste Szene hier im Screenwriting-Workshop. \nWir beschäftigen uns mit den Grundlagen des Drehbuchschreibens\, dem Handwerk im Storytelling und damit\, was eine gute Story ausmacht. Mit deiner Teilnahme bekommst du das nötige Know-how\, um dein eigenes Projekt zu verwirklichen. Alles\, was du brauchst\, sind Neugier\, Zettel und Stift (oder Laptop). Dann kann es losgehen. \nWeitere Informationen zum Workshop auf www.thetypetowrite.de. \nAnmeldung unter info@thetypetowrite.de. \nAnmeldeschluss für den zweiteiligen Workshop: 5. Mai \n280 € (für 2 Tage\, siehe oben)
URL:https://litkobo.de/event/screenwriting-workshop-kompakt-k3-1
LOCATION:atelier 4630\, Gerberstr. 15\, Bochum\, 44787\, Deutschland
CATEGORIES:Workshop
END:VEVENT
BEGIN:VEVENT
DTSTART;TZID=Europe/Berlin:20260516T090000
DTEND;TZID=Europe/Berlin:20260516T150000
DTSTAMP:20260423T155021
CREATED:20260128T145650Z
LAST-MODIFIED:20260128T145650Z
UID:1731-1778922000-1778943600@litkobo.de
SUMMARY:Screenwriting-Workshop (K3-2)
DESCRIPTION:Nur für diejenigen\, die bereits für diesen zweiteiligen Workshop angemeldet sind.
URL:https://litkobo.de/event/screenwriting-workshop-k3-2
LOCATION:atelier 4630\, Gerberstr. 15\, Bochum\, 44787\, Deutschland
CATEGORIES:Workshop
END:VEVENT
BEGIN:VEVENT
DTSTART;TZID=Europe/Berlin:20260520T180000
DTEND;TZID=Europe/Berlin:20260520T210000
DTSTAMP:20260423T155021
CREATED:20260128T150037Z
LAST-MODIFIED:20260128T150157Z
UID:1733-1779300000-1779310800@litkobo.de
SUMMARY:Screenwriting-Workshop (W2-4)
DESCRIPTION:Nur für diejenigen\, die bereits für diesen vierteiligen Workshop angemeldet sind.
URL:https://litkobo.de/event/screenwriting-workshop-w2-4
LOCATION:atelier 4630\, Gerberstr. 15\, Bochum\, 44787\, Deutschland
CATEGORIES:Workshop
END:VEVENT
BEGIN:VEVENT
DTSTART;TZID=Europe/Berlin:20260523T080000
DTEND;TZID=Europe/Berlin:20260523T170000
DTSTAMP:20260423T155021
CREATED:20260128T150524Z
LAST-MODIFIED:20260128T150524Z
UID:1735-1779523200-1779555600@litkobo.de
SUMMARY:Grundgesetz-Geburtstag
DESCRIPTION:Am 23. Mai 1949 wurde das Grundgesetz beschlossen. Seinen Geburtstag feiert LitKoBo natürlich mit! Bei Kaffee/Tee und Kuchen lesen wir uns aus dem Grundgesetz vor und sprechen darüber\, was es uns bedeutet und wie es unser Leben prägt. Alle sind willkommen\, mitzufeiern\, egal ob Ihr bei uns Mitglied seid oder nicht! \nBei vorheriger Anmeldung können wir ein Stück Kuchen garantieren\, aber Ihr könnt auch gerne spontan und jederzeit zwischen 15 und 18 Uhr vorbeikommen – und noch Kuchen mitbringen ;-)). \nAnmeldung unter info@litkobo.de oder 0172-3466313 \nTeilnahme kostenlos\, Spende erwünscht
URL:https://litkobo.de/event/grundgesetz-geburtstag-2
LOCATION:atelier 4630\, Gerberstr. 15\, Bochum\, 44787\, Deutschland
CATEGORIES:Gespräch,Jubiläumsfeier,Sonstiges,Treffen
ORGANIZER;CN="LitKoBo e.V.":MAILTO:info@litkobo.de
END:VEVENT
END:VCALENDAR