BEGIN:VCALENDAR
VERSION:2.0
PRODID:-//LiteraturKollektiv Bochum e.V. - ECPv6.15.20//NONSGML v1.0//EN
CALSCALE:GREGORIAN
METHOD:PUBLISH
X-WR-CALNAME:LiteraturKollektiv Bochum e.V.
X-ORIGINAL-URL:https://litkobo.de
X-WR-CALDESC:Veranstaltungen für LiteraturKollektiv Bochum e.V.
REFRESH-INTERVAL;VALUE=DURATION:PT1H
X-Robots-Tag:noindex
X-PUBLISHED-TTL:PT1H
BEGIN:VTIMEZONE
TZID:Europe/Berlin
BEGIN:DAYLIGHT
TZOFFSETFROM:+0100
TZOFFSETTO:+0200
TZNAME:CEST
DTSTART:20250330T010000
END:DAYLIGHT
BEGIN:STANDARD
TZOFFSETFROM:+0200
TZOFFSETTO:+0100
TZNAME:CET
DTSTART:20251026T010000
END:STANDARD
BEGIN:DAYLIGHT
TZOFFSETFROM:+0100
TZOFFSETTO:+0200
TZNAME:CEST
DTSTART:20260329T010000
END:DAYLIGHT
BEGIN:STANDARD
TZOFFSETFROM:+0200
TZOFFSETTO:+0100
TZNAME:CET
DTSTART:20261025T010000
END:STANDARD
BEGIN:DAYLIGHT
TZOFFSETFROM:+0100
TZOFFSETTO:+0200
TZNAME:CEST
DTSTART:20270328T010000
END:DAYLIGHT
BEGIN:STANDARD
TZOFFSETFROM:+0200
TZOFFSETTO:+0100
TZNAME:CET
DTSTART:20271031T010000
END:STANDARD
END:VTIMEZONE
BEGIN:VEVENT
DTSTART;TZID=Europe/Berlin:20260227T170000
DTEND;TZID=Europe/Berlin:20260227T200000
DTSTAMP:20260424T143343
CREATED:20260121T152106Z
LAST-MODIFIED:20260223T112522Z
UID:1677-1772211600-1772222400@litkobo.de
SUMMARY:Figurenentwicklung
DESCRIPTION:In Romanen und Geschichten spielen die Figuren die Hauptrolle. Wie schreibe ich sie so\, dass sie lebendig sind und überzeugen? \nUm Figuren zu erschaffen\, mit denen sich die Leser*innen identifizieren\, schlüpfen wir in diesem Workshop ganz in ihre Haut. Wir erkunden\, was die Figuren unserer Romane wollen und wovor sie sich fürchten. Welche Figuren benötigt meine Geschichte? Wie sehen sie aus\, was tun sie\, was reden sie? Auch ihr Umfeld darf nicht vergessen werden. Mit Übungen\, Spielszenen\, Anregungen\, Tipps. (Für Schreibneulinge und Schreiberfahrene.) \nLeitung: Pe Sturm \nAnmeldeschluss: 23. Februar \nAnmeldung unter: info@litkobo.de oder 0172-3466313\n(max. 8 Personen\, bei weniger als vier Anmeldungen findet es nicht statt; in Teilnahmegebühr sind Kaffee\, Tee\, Wasser enthalten) \n30 €
URL:https://litkobo.de/event/figurenentwicklung-8
LOCATION:atelier 4630\, Gerberstr. 15\, Bochum\, 44787\, Deutschland
CATEGORIES:Workshop
END:VEVENT
END:VCALENDAR