BEGIN:VCALENDAR
VERSION:2.0
PRODID:-//LiteraturKollektiv Bochum e.V. - ECPv6.15.20//NONSGML v1.0//EN
CALSCALE:GREGORIAN
METHOD:PUBLISH
X-ORIGINAL-URL:https://litkobo.de
X-WR-CALDESC:Veranstaltungen für LiteraturKollektiv Bochum e.V.
REFRESH-INTERVAL;VALUE=DURATION:PT1H
X-Robots-Tag:noindex
X-PUBLISHED-TTL:PT1H
BEGIN:VTIMEZONE
TZID:Europe/Berlin
BEGIN:DAYLIGHT
TZOFFSETFROM:+0100
TZOFFSETTO:+0200
TZNAME:CEST
DTSTART:20250330T010000
END:DAYLIGHT
BEGIN:STANDARD
TZOFFSETFROM:+0200
TZOFFSETTO:+0100
TZNAME:CET
DTSTART:20251026T010000
END:STANDARD
BEGIN:DAYLIGHT
TZOFFSETFROM:+0100
TZOFFSETTO:+0200
TZNAME:CEST
DTSTART:20260329T010000
END:DAYLIGHT
BEGIN:STANDARD
TZOFFSETFROM:+0200
TZOFFSETTO:+0100
TZNAME:CET
DTSTART:20261025T010000
END:STANDARD
BEGIN:DAYLIGHT
TZOFFSETFROM:+0100
TZOFFSETTO:+0200
TZNAME:CEST
DTSTART:20270328T010000
END:DAYLIGHT
BEGIN:STANDARD
TZOFFSETFROM:+0200
TZOFFSETTO:+0100
TZNAME:CET
DTSTART:20271031T010000
END:STANDARD
END:VTIMEZONE
BEGIN:VEVENT
DTSTART;TZID=Europe/Berlin:20260328T110000
DTEND;TZID=Europe/Berlin:20260328T123000
DTSTAMP:20260424T141047
CREATED:20260222T125641Z
LAST-MODIFIED:20260310T121757Z
UID:1754-1774695600-1774701000@litkobo.de
SUMMARY:Fotoshootings
DESCRIPTION:Porträtfotos für Autor:innen aller Art. \nDu fängst gerade erst mit dem Schreiben an oder schreibst schon länger und möchtest nun deine Texte oder deinen Roman an die Öffentlichkeit bringen? Dir fehlt dazu noch ein Porträt\, mit dem du dich wohlfühlst und das dich authentisch zeigt? Oder du möchtest einfach deinen Pool an Porträtfotos erweitern? Dann bist du hier richtig. In einer Gruppe von max. 8 Personen werden wir auf dem Gelände der Jahrhunderthalle Bochum spazieren gehen und dabei die verschiedenen Möglichkeiten erkunden\, die uns der Ort für deinen perfekten Hintergrund bietet. Du erhältst ein paar Tage später 1-2 Porträts zur eigenen Nutzung. (Bei Dauerregen wird der Termin verschoben.) \nDer genaue Treffpunkt wird den Teilnehmenden nach Anmeldung bekanntgegeben. \nLeitung: Corina Minzlaff \nAnmeldeschluss: 24. März \nAnmeldung unter: info@litkobo.de oder 0172-3466313 \n45 Euro
URL:https://litkobo.de/event/fotoshootings
LOCATION:Westpark\, Bochum\, 44787
CATEGORIES:Sonstiges
END:VEVENT
END:VCALENDAR