BEGIN:VCALENDAR
VERSION:2.0
PRODID:-//LiteraturKollektiv Bochum e.V. - ECPv6.15.20//NONSGML v1.0//EN
CALSCALE:GREGORIAN
METHOD:PUBLISH
X-ORIGINAL-URL:https://litkobo.de
X-WR-CALDESC:Veranstaltungen für LiteraturKollektiv Bochum e.V.
REFRESH-INTERVAL;VALUE=DURATION:PT1H
X-Robots-Tag:noindex
X-PUBLISHED-TTL:PT1H
BEGIN:VTIMEZONE
TZID:Europe/Berlin
BEGIN:DAYLIGHT
TZOFFSETFROM:+0100
TZOFFSETTO:+0200
TZNAME:CEST
DTSTART:20250330T010000
END:DAYLIGHT
BEGIN:STANDARD
TZOFFSETFROM:+0200
TZOFFSETTO:+0100
TZNAME:CET
DTSTART:20251026T010000
END:STANDARD
BEGIN:DAYLIGHT
TZOFFSETFROM:+0100
TZOFFSETTO:+0200
TZNAME:CEST
DTSTART:20260329T010000
END:DAYLIGHT
BEGIN:STANDARD
TZOFFSETFROM:+0200
TZOFFSETTO:+0100
TZNAME:CET
DTSTART:20261025T010000
END:STANDARD
BEGIN:DAYLIGHT
TZOFFSETFROM:+0100
TZOFFSETTO:+0200
TZNAME:CEST
DTSTART:20270328T010000
END:DAYLIGHT
BEGIN:STANDARD
TZOFFSETFROM:+0200
TZOFFSETTO:+0100
TZNAME:CET
DTSTART:20271031T010000
END:STANDARD
END:VTIMEZONE
BEGIN:VEVENT
DTSTART;TZID=Europe/Berlin:20260613T110000
DTEND;TZID=Europe/Berlin:20260613T140000
DTSTAMP:20260423T144500
CREATED:20260128T155041Z
LAST-MODIFIED:20260128T155041Z
UID:1743-1781348400-1781359200@litkobo.de
SUMMARY:Workshop Kurze Formate
DESCRIPTION:Schon eine Kurzgeschichte unter 5.000 Wörtern kann eine Herausforderung sein. Aber wieviel können wir in 1.000 Wörtern erzählen? Oder 100? Oder 10? \nDer Workshop vermittelt einen Überblick über die verschiedenen Erzählformate\, erklärt ihre literarische Bedeutung und den handwerklichen Nutzen\, den Schreibende draus ziehen können. Danach gehts ans Eingemachte: Mit Hilfe von Prompte und einer gnadenlosen Stoppuhr werden alle Formate ausprobiert. Bringt euch also etwas zum Schreiben mit! \nFür Anfänger:innen und Fortgeschrittene \nLeitung: Len Klapdor \nAnmeldeschluss: 9. Juni \n(für max 8 Personen\, bei weniger als vier Anmeldungen findet es nicht statt; in der Teilnahmegebühr sind Kaffee\, Tee\, Wasser enthalten) \nAnmeldung unter: info@litkobo.de oder 0172-3466313 \nTeilnahmegebühr: 50 €
URL:https://litkobo.de/event/workshop-kurze-formate-2
LOCATION:atelier 4630\, Gerberstr. 15\, Bochum\, 44787\, Deutschland
CATEGORIES:Workshop
END:VEVENT
END:VCALENDAR