BEGIN:VCALENDAR
VERSION:2.0
PRODID:-//LiteraturKollektiv Bochum e.V. - ECPv6.15.20//NONSGML v1.0//EN
CALSCALE:GREGORIAN
METHOD:PUBLISH
X-WR-CALNAME:LiteraturKollektiv Bochum e.V.
X-ORIGINAL-URL:https://litkobo.de
X-WR-CALDESC:Veranstaltungen für LiteraturKollektiv Bochum e.V.
REFRESH-INTERVAL;VALUE=DURATION:PT1H
X-Robots-Tag:noindex
X-PUBLISHED-TTL:PT1H
BEGIN:VTIMEZONE
TZID:Europe/Berlin
BEGIN:DAYLIGHT
TZOFFSETFROM:+0100
TZOFFSETTO:+0200
TZNAME:CEST
DTSTART:20250330T010000
END:DAYLIGHT
BEGIN:STANDARD
TZOFFSETFROM:+0200
TZOFFSETTO:+0100
TZNAME:CET
DTSTART:20251026T010000
END:STANDARD
BEGIN:DAYLIGHT
TZOFFSETFROM:+0100
TZOFFSETTO:+0200
TZNAME:CEST
DTSTART:20260329T010000
END:DAYLIGHT
BEGIN:STANDARD
TZOFFSETFROM:+0200
TZOFFSETTO:+0100
TZNAME:CET
DTSTART:20261025T010000
END:STANDARD
BEGIN:DAYLIGHT
TZOFFSETFROM:+0100
TZOFFSETTO:+0200
TZNAME:CEST
DTSTART:20270328T010000
END:DAYLIGHT
BEGIN:STANDARD
TZOFFSETFROM:+0200
TZOFFSETTO:+0100
TZNAME:CET
DTSTART:20271031T010000
END:STANDARD
END:VTIMEZONE
BEGIN:VEVENT
DTSTART;TZID=Europe/Berlin:20260211T180000
DTEND;TZID=Europe/Berlin:20260211T210000
DTSTAMP:20260420T163602
CREATED:20260116T151056Z
LAST-MODIFIED:20260116T151228Z
UID:1668-1770832800-1770843600@litkobo.de
SUMMARY:Screenwriting-Workshop (W1-1)
DESCRIPTION:Achtung! Dieser Workshop umfasst insgesamt vier Termine: 11. Februar\, 25. Februar\, 11. März und 25. März. \nDu interessierst dich für Film und möchtest dein eigenes Drehbuch schreiben? Dann beginnt deine erste Szene hier im Screenwriting-Workshop. \nWir beschäftigen uns mit den Grundlagen des Drehbuchschreibens\, dem Handwerk im Storytelling und damit\, was eine gute Story ausmacht. Mit deiner Teilnahme bekommst du das nötige Know-how\, um dein eigenes Projekt zu verwirklichen. Alles\, was du brauchst\, sind Neugier\, Zettel und Stift (oder Laptop). Dann kann es losgehen. \nWeitere Informationen zum Workshop auf www.thetypetowrite.de. \nAnmeldung unter info@thetypetowrite.de. \nAnmeldeschluss für den vierteiligen Workshop: 7. Februar \n280 € (für 4 Abende\, siehe oben) \n 
URL:https://litkobo.de/event/screenwriting-workshop-w1-1
LOCATION:atelier 4630\, Gerberstr. 15\, Bochum\, 44787\, Deutschland
CATEGORIES:Workshop
END:VEVENT
BEGIN:VEVENT
DTSTART;TZID=Europe/Berlin:20260225T180000
DTEND;TZID=Europe/Berlin:20260225T210000
DTSTAMP:20260420T163602
CREATED:20260116T153454Z
LAST-MODIFIED:20260116T153454Z
UID:1673-1772042400-1772053200@litkobo.de
SUMMARY:Screenwriting-Workshop (W1-2)
DESCRIPTION:Nur für diejenigen\, die bereits für diesen vierteiligen Workshop angemeldet sind. \nWir bieten den gesamten Workshop aber auch noch mal ab dem 8. April an\, außerdem in kompakter Form (jeweils am 21. und 28. Februar bzw. 14. und 21. März bzw. 9. und 16. Mai) und als Intensiv-Workshop am 11./12. April. Bitte unter diesen Terminen anmelden!
URL:https://litkobo.de/event/screenwriting-workshop-w1-2
LOCATION:atelier 4630\, Gerberstr. 15\, Bochum\, 44787\, Deutschland
CATEGORIES:Workshop
END:VEVENT
BEGIN:VEVENT
DTSTART;TZID=Europe/Berlin:20260228T090000
DTEND;TZID=Europe/Berlin:20260228T150000
DTSTAMP:20260420T163602
CREATED:20260121T153000Z
LAST-MODIFIED:20260121T153000Z
UID:1681-1772269200-1772290800@litkobo.de
SUMMARY:Screenwriting-Workshop kompakt (K1-2)
DESCRIPTION:Nur für diejenigen\, die bereits für diesen zweiteiligen Workshop angemeldet sind. \nWir bieten den gesamten Workshop aber auch noch mal ab dem 8. April an\, außerdem in kompakter Form (jeweils am 21. und 28. Februar bzw. 14. und 21. März bzw. 9. und 16. Mai) und als Intensiv-Workshop am 11./12. April. Bitte unter diesen Terminen anmelden!
URL:https://litkobo.de/event/screenwriting-workshop-kompakt-k1-2
LOCATION:atelier 4630\, Gerberstr. 15\, Bochum\, 44787\, Deutschland
END:VEVENT
END:VCALENDAR