BEGIN:VCALENDAR
VERSION:2.0
PRODID:-//LiteraturKollektiv Bochum e.V. - ECPv6.15.20//NONSGML v1.0//EN
CALSCALE:GREGORIAN
METHOD:PUBLISH
X-ORIGINAL-URL:https://litkobo.de
X-WR-CALDESC:Veranstaltungen für LiteraturKollektiv Bochum e.V.
REFRESH-INTERVAL;VALUE=DURATION:PT1H
X-Robots-Tag:noindex
X-PUBLISHED-TTL:PT1H
BEGIN:VTIMEZONE
TZID:Europe/Berlin
BEGIN:DAYLIGHT
TZOFFSETFROM:+0100
TZOFFSETTO:+0200
TZNAME:CEST
DTSTART:20250330T010000
END:DAYLIGHT
BEGIN:STANDARD
TZOFFSETFROM:+0200
TZOFFSETTO:+0100
TZNAME:CET
DTSTART:20251026T010000
END:STANDARD
BEGIN:DAYLIGHT
TZOFFSETFROM:+0100
TZOFFSETTO:+0200
TZNAME:CEST
DTSTART:20260329T010000
END:DAYLIGHT
BEGIN:STANDARD
TZOFFSETFROM:+0200
TZOFFSETTO:+0100
TZNAME:CET
DTSTART:20261025T010000
END:STANDARD
BEGIN:DAYLIGHT
TZOFFSETFROM:+0100
TZOFFSETTO:+0200
TZNAME:CEST
DTSTART:20270328T010000
END:DAYLIGHT
BEGIN:STANDARD
TZOFFSETFROM:+0200
TZOFFSETTO:+0100
TZNAME:CET
DTSTART:20271031T010000
END:STANDARD
END:VTIMEZONE
BEGIN:VEVENT
DTSTART;TZID=Europe/Berlin:20260221T090000
DTEND;TZID=Europe/Berlin:20260221T150000
DTSTAMP:20260420T181759
CREATED:20260116T152503Z
LAST-MODIFIED:20260116T152503Z
UID:1671-1771664400-1771686000@litkobo.de
SUMMARY:Screenwriting-Workshop kompakt (K1-1)
DESCRIPTION:Achtung! Dieser Workshop umfasst insgesamt zwei Termine: 21. Februar und 28. Februar. \nDu interessierst dich für Film und möchtest dein eigenes Drehbuch schreiben? Dann beginnt deine erste Szene hier im Screenwriting-Workshop. \nWir beschäftigen uns mit den Grundlagen des Drehbuchschreibens\, dem Handwerk im Storytelling und damit\, was eine gute Story ausmacht. Mit deiner Teilnahme bekommst du das nötige Know-how\, um dein eigenes Projekt zu verwirklichen. Alles\, was du brauchst\, sind Neugier\, Zettel und Stift (oder Laptop). Dann kann es losgehen. \nWeitere Informationen zum Workshop auf www.thetypetowrite.de. \nAnmeldung unter info@thetypetowrite.de. \nAnmeldeschluss für den zweiteiligen Workshop: 17. Februar \n280 € (für 2 Tage\, siehe oben)
URL:https://litkobo.de/event/screenwriting-workshop-kompakt-k1-1
LOCATION:atelier 4630\, Gerberstr. 15\, Bochum\, 44787\, Deutschland
CATEGORIES:Workshop
END:VEVENT
END:VCALENDAR