BEGIN:VCALENDAR
VERSION:2.0
PRODID:-//LiteraturKollektiv Bochum e.V. - ECPv6.15.20//NONSGML v1.0//EN
CALSCALE:GREGORIAN
METHOD:PUBLISH
X-WR-CALNAME:LiteraturKollektiv Bochum e.V.
X-ORIGINAL-URL:https://litkobo.de
X-WR-CALDESC:Veranstaltungen für LiteraturKollektiv Bochum e.V.
REFRESH-INTERVAL;VALUE=DURATION:PT1H
X-Robots-Tag:noindex
X-PUBLISHED-TTL:PT1H
BEGIN:VTIMEZONE
TZID:Europe/Berlin
BEGIN:DAYLIGHT
TZOFFSETFROM:+0100
TZOFFSETTO:+0200
TZNAME:CEST
DTSTART:20240331T010000
END:DAYLIGHT
BEGIN:STANDARD
TZOFFSETFROM:+0200
TZOFFSETTO:+0100
TZNAME:CET
DTSTART:20241027T010000
END:STANDARD
BEGIN:DAYLIGHT
TZOFFSETFROM:+0100
TZOFFSETTO:+0200
TZNAME:CEST
DTSTART:20250330T010000
END:DAYLIGHT
BEGIN:STANDARD
TZOFFSETFROM:+0200
TZOFFSETTO:+0100
TZNAME:CET
DTSTART:20251026T010000
END:STANDARD
BEGIN:DAYLIGHT
TZOFFSETFROM:+0100
TZOFFSETTO:+0200
TZNAME:CEST
DTSTART:20260329T010000
END:DAYLIGHT
BEGIN:STANDARD
TZOFFSETFROM:+0200
TZOFFSETTO:+0100
TZNAME:CET
DTSTART:20261025T010000
END:STANDARD
END:VTIMEZONE
BEGIN:VEVENT
DTSTART;TZID=Europe/Berlin:20250809T100000
DTEND;TZID=Europe/Berlin:20250809T130000
DTSTAMP:20260425T174648
CREATED:20250722T091123Z
LAST-MODIFIED:20250805T100045Z
UID:1478-1754733600-1754744400@litkobo.de
SUMMARY:Lyrik leicht gemacht - Workshop
DESCRIPTION:Wir beschäftigen uns spielerisch mit dem Reimen\, Dichten und lyrischen Schreiben\, suchen uns Anregungen und probieren unsere poetische Ader aus. \nWie entsteht ein Gedicht? Wie finde ich die richtigen Worte? Was inspiriert mich zum Schreiben von Lyrik? Gemeinsam widmen wir uns unserer lyrischen Stimme und tauschen uns über unsere entstandenen Texte und Schreiberfahrungen aus. \nFür Anfänger:innen und Fortgeschrittene \nLeitung: Angelina Jungmann \nAnmeldeschluss: 5. August \nAnmeldung unter: info@litkobo.de oder 0172-3466313\n(max. 8 Personen\, bei weniger als vier Anmeldungen findet es nicht statt; in Teilnahmegebühr sind Kaffee\, Tee\, Wasser enthalten) \n45 €
URL:https://litkobo.de/event/lyrik-leicht-gemacht-workshop-4
LOCATION:atelier 4630\, Gerberstr. 15\, Bochum\, 44787\, Deutschland
CATEGORIES:Workshop
ORGANIZER;CN="LitKoBo e.V.":MAILTO:info@litkobo.de
END:VEVENT
BEGIN:VEVENT
DTSTART;TZID=Europe/Berlin:20250822T170000
DTEND;TZID=Europe/Berlin:20250822T200000
DTSTAMP:20260425T174648
CREATED:20250722T091659Z
LAST-MODIFIED:20250816T134517Z
UID:1480-1755882000-1755892800@litkobo.de
SUMMARY:Figurenentwicklung - Workshop
DESCRIPTION:In Romanen und Geschichten spielen die Figuren die Hauptrolle. Wie schreibe ich sie so\, dass sie lebendig sind und überzeugen? \nUm Figuren zu erschaffen\, mit denen sich die Leser:innen identifizieren\, schlüpfen wir in diesem Workshop ganz in ihre Haut. Wir erkunden\, was die Figuren unserer Romane wollen und wovor sie sich fürchten. Welche Figuren benötigt meine Geschichte? Wie sehen sie aus\, was tun sie\, was reden sie? Auch ihr Umfeld darf nicht vergessen werden. Mit Übungen\, Spielszenen\, Anregungen\, Tipps. (Für Schreibneulinge und Schreiberfahrene.) \nLeitung: Pe Sturm \nAnmeldeschluss: 18. August \nAnmeldung unter: info@litkobo.de oder 0172-3466313\n(max. 8 Personen\, bei weniger als vier Anmeldungen findet es nicht statt; in Teilnahmegebühr sind Kaffee\, Tee\, Wasser enthalten) \n30 €
URL:https://litkobo.de/event/figurenentwicklung-workshop
LOCATION:atelier 4630\, Gerberstr. 15\, Bochum\, 44787\, Deutschland
CATEGORIES:Workshop
ORGANIZER;CN="LitKoBo e.V.":MAILTO:info@litkobo.de
END:VEVENT
BEGIN:VEVENT
DTSTART;TZID=Europe/Berlin:20250826T180000
DTEND;TZID=Europe/Berlin:20250826T210000
DTSTAMP:20260425T174648
CREATED:20250722T092741Z
LAST-MODIFIED:20250821T115542Z
UID:1482-1756231200-1756242000@litkobo.de
SUMMARY:Mein Ich in Worten - Schreiben als Therapie
DESCRIPTION:In diesem Workshop hast du die Gelegenheit\, unter psychotherapeutischer Begleitung die vielfältigen Möglichkeiten des Therapeutischen Schreibens kennenzulernen. \nDu möchtest dich selbst besser verstehen\, neue Wege im Umgang mit Herausforderungen finden oder persönliche Themen auf eine kreative Weise bearbeiten? Dann lade ich dich herzlich zum Therapeutischen Schreiben ein. In diesem Workshop erhältst du erste Einblicke\, wie du das Schreiben als kraftvolles Werkzeug zur Selbsterkenntnis und Selbstentdeckung nutzen kannst. Es erwarten dich inspirierende Schreibimpulse und ein geschützter Raum für Austausch und Reflexion. Du brauchst keine Schreiberfahrung – nur Stift\, Papier und die Bereitschaft\, dich schreibend auf dich selbst einzulassen. Vielleicht entdeckst du dabei ein neues Selbstbewusstsein\, mehr innere Klarheit oder überraschende Perspektiven. Ich freue mich auf Dich! \nLeitung: Christiane Mathei \nAnmeldung unter praxis@christiane-mathei.de \nAnmeldeschluss: 22. August \n45 €
URL:https://litkobo.de/event/mein-ich-in-worten-schreiben-als-therapie
LOCATION:atelier 4630\, Gerberstr. 15\, Bochum\, 44787\, Deutschland
CATEGORIES:Workshop
END:VEVENT
BEGIN:VEVENT
DTSTART;TZID=Europe/Berlin:20250831T160000
DTEND;TZID=Europe/Berlin:20250831T190000
DTSTAMP:20260425T174648
CREATED:20250722T102450Z
LAST-MODIFIED:20250826T164224Z
UID:1485-1756656000-1756666800@litkobo.de
SUMMARY:Humorvolles Schreiben - Workshop
DESCRIPTION:*** Achtung! Die Veranstaltung muss leider auf einen späteren Termin verlegt werden *** \nDie neuen Daten werden in Kürze veröffentlicht. \nWie können wir humorvoll schreiben – in Romanen\, Geschichten\, Blogs oder für Social Media? Ziel des Workshops ist es\, ein Gespür für Humorformen zu entwickeln und den eigenen Humortyp zu entdecken.\nDie Teilnehmenden lernen typische Stilmittel kennen und erfahren\, wie man Pointen gezielt platziert. Praktisch wird das an einem gemeinsamen Text in der Gruppe erarbeitet und anschließend an einem eigenen Beispiel ausprobiert. Dabei helfen Beispieltexte und Hinweise. \nLeitung: Klaus Märkert \nAnmeldeschluss: 27. August \nAnmeldung unter: info@litkobo.de oder 0172-3466313\n(max. 8 Personen\, bei weniger als vier Anmeldungen findet es nicht statt; in der Teilnahmegebühr sind Kaffee\, Tee\, Wasser enthalten) \n35 €
URL:https://litkobo.de/event/humorvolles-schreiben-workshop
LOCATION:atelier 4630\, Gerberstr. 15\, Bochum\, 44787\, Deutschland
CATEGORIES:Workshop
ORGANIZER;CN="LitKoBo e.V.":MAILTO:info@litkobo.de
END:VEVENT
END:VCALENDAR