BEGIN:VCALENDAR
VERSION:2.0
PRODID:-//LiteraturKollektiv Bochum e.V. - ECPv6.15.20//NONSGML v1.0//EN
CALSCALE:GREGORIAN
METHOD:PUBLISH
X-WR-CALNAME:LiteraturKollektiv Bochum e.V.
X-ORIGINAL-URL:https://litkobo.de
X-WR-CALDESC:Veranstaltungen für LiteraturKollektiv Bochum e.V.
REFRESH-INTERVAL;VALUE=DURATION:PT1H
X-Robots-Tag:noindex
X-PUBLISHED-TTL:PT1H
BEGIN:VTIMEZONE
TZID:Europe/Berlin
BEGIN:DAYLIGHT
TZOFFSETFROM:+0100
TZOFFSETTO:+0200
TZNAME:CEST
DTSTART:20240331T010000
END:DAYLIGHT
BEGIN:STANDARD
TZOFFSETFROM:+0200
TZOFFSETTO:+0100
TZNAME:CET
DTSTART:20241027T010000
END:STANDARD
BEGIN:DAYLIGHT
TZOFFSETFROM:+0100
TZOFFSETTO:+0200
TZNAME:CEST
DTSTART:20250330T010000
END:DAYLIGHT
BEGIN:STANDARD
TZOFFSETFROM:+0200
TZOFFSETTO:+0100
TZNAME:CET
DTSTART:20251026T010000
END:STANDARD
BEGIN:DAYLIGHT
TZOFFSETFROM:+0100
TZOFFSETTO:+0200
TZNAME:CEST
DTSTART:20260329T010000
END:DAYLIGHT
BEGIN:STANDARD
TZOFFSETFROM:+0200
TZOFFSETTO:+0100
TZNAME:CET
DTSTART:20261025T010000
END:STANDARD
END:VTIMEZONE
BEGIN:VEVENT
DTSTART;TZID=Europe/Berlin:20250906T110000
DTEND;TZID=Europe/Berlin:20250906T140000
DTSTAMP:20260425T161141
CREATED:20250723T134118Z
LAST-MODIFIED:20250905T080258Z
UID:1495-1757156400-1757167200@litkobo.de
SUMMARY:Diversität schreiben 2: Critical Whiteness und (Anti-)Rassismus
DESCRIPTION:*** Achtung! Der Termin muss leider verschoben werden. Weitere Infos folgen! *** \nWie können wir in unseren Texten Figuren auftreten lassen\, ohne (versehentlich) rassistische und verletzende Beschreibungen zu verwenden? \nIn der Literatur wird seit Jahren mehr Diversität gefordert und gefördert\, doch viele Autor:innen\, von allem weiße\, fühlen sich verunsichert und fragen sich\, wie sie z.B. gute Repräsentation nicht-weißer Figuren umsetzen könne\, ohne rassistische Stereotype zu reproduzieren oder anderweitig verletzende Inhalte zu schaffen. \nDer Workshop vermittelt Grundlagenwissen um bekannte diskriminierende Strukturen und Tropen in der Kultur und will Autor:innen so die Angst nehmen\, ihre Geschichten diverser zu gestalten. Dabei werden nicht nur verschiedene Fallbeispiele aus der Praxis besprochen\, sondern Teilnehmende sind explizit dazu angehalten\, konkrete Fragen aus ihrer Schreibpraxis mitzubringen\, denn: Repräsentation ist kein Nummernspiel\, die Ausführung zählt! \nFür Anfänger:innen und Fortgeschrittene \nLeitung: Len Klapdor \nAnmeldeschluss: 2. September \nAnmeldung unter: info@litkobo.de oder 0172-3466313\n(max. 8 Personen\, bei weniger als vier Anmeldungen findet es nicht statt; in Teilnahmegebühr sind Kaffee\, Tee\, Wasser enthalten) \n35 €
URL:https://litkobo.de/event/diversitaet-schreiben-2-critical-whiteness-und-anti-rassismus-2
LOCATION:atelier 4630\, Gerberstr. 15\, Bochum\, 44787\, Deutschland
CATEGORIES:Workshop
ORGANIZER;CN="LitKoBo e.V.":MAILTO:info@litkobo.de
END:VEVENT
END:VCALENDAR