BEGIN:VCALENDAR
VERSION:2.0
PRODID:-//LiteraturKollektiv Bochum e.V. - ECPv6.15.20//NONSGML v1.0//EN
CALSCALE:GREGORIAN
METHOD:PUBLISH
X-ORIGINAL-URL:https://litkobo.de
X-WR-CALDESC:Veranstaltungen für LiteraturKollektiv Bochum e.V.
REFRESH-INTERVAL;VALUE=DURATION:PT1H
X-Robots-Tag:noindex
X-PUBLISHED-TTL:PT1H
BEGIN:VTIMEZONE
TZID:Europe/Berlin
BEGIN:DAYLIGHT
TZOFFSETFROM:+0100
TZOFFSETTO:+0200
TZNAME:CEST
DTSTART:20240331T010000
END:DAYLIGHT
BEGIN:STANDARD
TZOFFSETFROM:+0200
TZOFFSETTO:+0100
TZNAME:CET
DTSTART:20241027T010000
END:STANDARD
BEGIN:DAYLIGHT
TZOFFSETFROM:+0100
TZOFFSETTO:+0200
TZNAME:CEST
DTSTART:20250330T010000
END:DAYLIGHT
BEGIN:STANDARD
TZOFFSETFROM:+0200
TZOFFSETTO:+0100
TZNAME:CET
DTSTART:20251026T010000
END:STANDARD
BEGIN:DAYLIGHT
TZOFFSETFROM:+0100
TZOFFSETTO:+0200
TZNAME:CEST
DTSTART:20260329T010000
END:DAYLIGHT
BEGIN:STANDARD
TZOFFSETFROM:+0200
TZOFFSETTO:+0100
TZNAME:CET
DTSTART:20261025T010000
END:STANDARD
END:VTIMEZONE
BEGIN:VEVENT
DTSTART;TZID=Europe/Berlin:20251106T170000
DTEND;TZID=Europe/Berlin:20251106T200000
DTSTAMP:20260425T125500
CREATED:20250727T131948Z
LAST-MODIFIED:20250727T131948Z
UID:1538-1762448400-1762459200@litkobo.de
SUMMARY:Figurenentwicklung
DESCRIPTION:In Romanen und Geschichten spielen die Figuren die Hauptrolle. Wie schreibe ich sie so\, dass sie lebendig sind und überzeugen? \nUm Figuren zu erschaffen\, mit denen sich die Leser*innen identifizieren\, schlüpfen wir in diesem Workshop ganz in ihre Haut. Wir erkunden\, was die Figuren unserer Romane wollen und wovor sie sich fürchten. Welche Figuren benötigt meine Geschichte? Wie sehen sie aus\, was tun sie\, was reden sie? Auch ihr Umfeld darf nicht vergessen werden. Mit Übungen\, Spielszenen\, Anregungen\, Tipps. (Für Schreibneulinge und Schreiberfahrene.) \nLeitung: Pe Sturm \nAnmeldeschluss: 2. November \nAnmeldung unter: info@litkobo.de oder 0172-3466313\n(max. 8 Personen\, bei weniger als vier Anmeldungen findet es nicht statt; in Teilnahmegebühr sind Kaffee\, Tee\, Wasser enthalten) \n30 €
URL:https://litkobo.de/event/figurenentwicklung-7
LOCATION:atelier 4630\, Gerberstr. 15\, Bochum\, 44787\, Deutschland
CATEGORIES:Workshop
ORGANIZER;CN="LitKoBo e.V.":MAILTO:info@litkobo.de
END:VEVENT
BEGIN:VEVENT
DTSTART;TZID=Europe/Berlin:20251108T100000
DTEND;TZID=Europe/Berlin:20251108T140000
DTSTAMP:20260425T125500
CREATED:20250727T132606Z
LAST-MODIFIED:20251104T160631Z
UID:1540-1762596000-1762610400@litkobo.de
SUMMARY:Social Media für Autor:innen
DESCRIPTION:Auch aus der Buchwelt sind Social Media nicht wegzudenken\, und für Selfpublishing und viele andere künstlerische Bereiche sind sie unverzichtbar. \nFesselnde Texte\, ausdrucksvolle Bilder\, faszinierende Kurzvideos … Social Media ist eine wunderbare Möglichkeit\, sein eigenes kreatives Schaffen zu präsentieren\, mit Gleichgesinnten in den Austausch zu kommen und eine große Reichweite zu generieren. Selbst bei Verlagsveröffentlichungen ist ein Social-Media-Account sehr erwünscht und hilfreich. \nWie gestalte ich meinen Account authentisch und zeitgleich professionell? Wie denke ich mir interessante Inhalte aus? Bei diesem Workshop stellen wir euch die Social-Media-Plattformen in Kürze vor und werden euch am Beispiel der Plattform Instagram zeigen\, welche Möglichkeiten euch offenstehen und wie ihr diese so nutzen könnt\, dass ihr euch damit wohlfühlt. Mit auf den Weg bekommt ihr eine Zusammenfassung sowie Journaling-Fragen und Tools für das Planen eurer Social-Media-Reise.\nFür Anfänger:innen und Fortgeschrittene \nLeitung: Angelina Jungmann \nAnmeldeschluss: 4. November \nAnmeldung unter: info@litkobo.de oder 0172-3466313\n(max. 8 Personen\, bei weniger als vier Anmeldungen findet es nicht statt; in Teilnahmegebühr sind Kaffee\, Tee\, Wasser enthalten) \n60 €
URL:https://litkobo.de/event/social-media-fuer-autorinnen
LOCATION:atelier 4630\, Gerberstr. 15\, Bochum\, 44787\, Deutschland
CATEGORIES:Workshop
ORGANIZER;CN="LitKoBo e.V.":MAILTO:info@litkobo.de
END:VEVENT
BEGIN:VEVENT
DTSTART;TZID=Europe/Berlin:20251109T100000
DTEND;TZID=Europe/Berlin:20251109T130000
DTSTAMP:20260425T125500
CREATED:20250727T133227Z
LAST-MODIFIED:20251104T162040Z
UID:1542-1762682400-1762693200@litkobo.de
SUMMARY:Canva-Workshop
DESCRIPTION:Fotos\, Plakate und andere Bilddokumente bearbeiten mit einem vielseitigen Programm! \nCanva ist eine digitale Plattform\, die sehr gut zur Erstellung von Instagrambeiträgen\, Plakaten und Titelbildern geeignet ist. Wenn man kreativ arbeitet\, lohnt es sich\, ein solches Tool für das eigene Schaffen nutzen zu können. In diesem Workshop gibt Angelina Jungmann eine allgemeine Einführung in die Funktionen\, Möglichkeiten und Herausforderungen rund um Canva und lädt zum Fragenstellen und gemeinsamen Bearbeiten ein. \nFür Anfänger:innen und Fortgeschrittene \nLeitung: Angelina Jungmann \nAnmeldeschluss: 5. November \nAnmeldung unter: info@litkobo.de oder 0172-3466313\n(max. 8 Personen\, bei weniger als vier Anmeldungen findet es nicht statt; in Teilnahmegebühr sind Kaffee\, Tee\, Wasser enthalten) \n40 €
URL:https://litkobo.de/event/canova-workshop
LOCATION:atelier 4630\, Gerberstr. 15\, Bochum\, 44787\, Deutschland
CATEGORIES:Workshop
ORGANIZER;CN="LitKoBo e.V.":MAILTO:info@litkobo.de
END:VEVENT
END:VCALENDAR