BEGIN:VCALENDAR
VERSION:2.0
PRODID:-//LiteraturKollektiv Bochum e.V. - ECPv6.15.20//NONSGML v1.0//EN
CALSCALE:GREGORIAN
METHOD:PUBLISH
X-WR-CALNAME:LiteraturKollektiv Bochum e.V.
X-ORIGINAL-URL:https://litkobo.de
X-WR-CALDESC:Veranstaltungen für LiteraturKollektiv Bochum e.V.
REFRESH-INTERVAL;VALUE=DURATION:PT1H
X-Robots-Tag:noindex
X-PUBLISHED-TTL:PT1H
BEGIN:VTIMEZONE
TZID:Europe/Berlin
BEGIN:DAYLIGHT
TZOFFSETFROM:+0100
TZOFFSETTO:+0200
TZNAME:CEST
DTSTART:20250330T010000
END:DAYLIGHT
BEGIN:STANDARD
TZOFFSETFROM:+0200
TZOFFSETTO:+0100
TZNAME:CET
DTSTART:20251026T010000
END:STANDARD
BEGIN:DAYLIGHT
TZOFFSETFROM:+0100
TZOFFSETTO:+0200
TZNAME:CEST
DTSTART:20260329T010000
END:DAYLIGHT
BEGIN:STANDARD
TZOFFSETFROM:+0200
TZOFFSETTO:+0100
TZNAME:CET
DTSTART:20261025T010000
END:STANDARD
BEGIN:DAYLIGHT
TZOFFSETFROM:+0100
TZOFFSETTO:+0200
TZNAME:CEST
DTSTART:20270328T010000
END:DAYLIGHT
BEGIN:STANDARD
TZOFFSETFROM:+0200
TZOFFSETTO:+0100
TZNAME:CET
DTSTART:20271031T010000
END:STANDARD
END:VTIMEZONE
BEGIN:VEVENT
DTSTART;TZID=Europe/Berlin:20260123T160000
DTEND;TZID=Europe/Berlin:20260123T190000
DTSTAMP:20260423T160443
CREATED:20260110T122737Z
LAST-MODIFIED:20260120T173049Z
UID:1647-1769184000-1769194800@litkobo.de
SUMMARY:Mein Ich im Wort - Schreiben als Therapie
DESCRIPTION:Entdecke in diesem Workshop die Kraft deiner Worte. Erkunde dich in kreativer Form der Selbstreflexion und lasse dich dabei durch die vielfältigen Möglichkeiten des Therapeutischen Schreibens unterstützen. \nInspirierende Schreibimpulse und ein geschützter Raum für Austausch über die Texte unterstützen dich dabei\, neue Erkenntnisse und Perspektiven zu gewinnen und bislang unbeschrittene Wege zu entdecken. Vielleicht hebst du verborgene Schätze? Du brauchst keine Schreiberfahrung – nur Stift\, Papier und die Bereitschaft\, dich schreibend auf dich selbst einzulassen. Ich freue mich auf dich! \nLeitung: Christiane Mathei\, Psychologische Psychotherapeutin \nAnmeldung unter praxis@christiane-mathei.de \nAnmeldeschluss: 19. Januar 2025 \n45 €
URL:https://litkobo.de/event/mein-ich-im-wort-schreiben-als-therapie
LOCATION:atelier 4630\, Gerberstr. 15\, Bochum\, 44787\, Deutschland
CATEGORIES:Workshop
END:VEVENT
END:VCALENDAR